BEGIN:VCALENDAR
VERSION:2.0
PRODID:icalendar-ruby
CALSCALE:GREGORIAN
METHOD:PUBLISH
BEGIN:VEVENT
DTSTAMP:20260420T114929Z
UID:1-1091332@reedybranch.org
DTSTART:20260819T224500Z
DTEND:20260820T000000Z
CLASS:PUBLIC
CREATED:20260420T071504
DESCRIPTION:Bible studies are held for all ages.\n 
LAST-MODIFIED:20260420T071504
LOCATION:
SUMMARY:Bible Study
URL;VALUE=URI:https://reedybranch.org/events/bible-study/2026-08-19
ATTACH;FILENAME=priscilla-du-preez-234138-unsplash.jpg;FMTTYPE=image/jpeg:h
 ttps://dq5pwpg1q8ru0.cloudfront.net/2021/11/12/19/08/50/1f912b38-268e-4b91
 -bb24-e73216698dfd/priscilla-du-preez-234138-unsplash.jpg
END:VEVENT
END:VCALENDAR
